BEGIN:VCALENDAR
VERSION:2.0
PRODID:-//Viarmes - ECPv6.15.20//NONSGML v1.0//EN
CALSCALE:GREGORIAN
METHOD:PUBLISH
X-WR-CALNAME:Viarmes
X-ORIGINAL-URL:https://viarmes.fr
X-WR-CALDESC:Évènements pour Viarmes
REFRESH-INTERVAL;VALUE=DURATION:PT1H
X-Robots-Tag:noindex
X-PUBLISHED-TTL:PT1H
BEGIN:VTIMEZONE
TZID:Europe/Paris
BEGIN:DAYLIGHT
TZOFFSETFROM:+0100
TZOFFSETTO:+0200
TZNAME:CEST
DTSTART:20230326T010000
END:DAYLIGHT
BEGIN:STANDARD
TZOFFSETFROM:+0200
TZOFFSETTO:+0100
TZNAME:CET
DTSTART:20231029T010000
END:STANDARD
BEGIN:DAYLIGHT
TZOFFSETFROM:+0100
TZOFFSETTO:+0200
TZNAME:CEST
DTSTART:20240331T010000
END:DAYLIGHT
BEGIN:STANDARD
TZOFFSETFROM:+0200
TZOFFSETTO:+0100
TZNAME:CET
DTSTART:20241027T010000
END:STANDARD
BEGIN:DAYLIGHT
TZOFFSETFROM:+0100
TZOFFSETTO:+0200
TZNAME:CEST
DTSTART:20250330T010000
END:DAYLIGHT
BEGIN:STANDARD
TZOFFSETFROM:+0200
TZOFFSETTO:+0100
TZNAME:CET
DTSTART:20251026T010000
END:STANDARD
END:VTIMEZONE
BEGIN:VEVENT
DTSTART;TZID=Europe/Paris:20240518T190000
DTEND;TZID=Europe/Paris:20240518T230000
DTSTAMP:20260425T050804
CREATED:20240514T073553Z
LAST-MODIFIED:20240516T070017Z
UID:30904-1716058800-1716073200@viarmes.fr
SUMMARY:Nuit des musées au musée de Viarmes
DESCRIPTION:Dans le cadre de la Nuit européenne des musées\, l’association Pierre Salvi propose une ouverture exceptionnelle du Musée de Viarmes le samedi 18 mai 2024 de 19h à 23h ! \nDécouvrez le Musée de Viarmes et voyagez dans tout le XXe siècle à travers de nombreuses pièces qui présentent des scènes de vie quotidienne… Bistrot\, école\, commerces… Les objets\, décors et parfums d’autrefois stimulent les sens des visiteurs qui peuvent\, durant la visite\, constater l’évolution de la société\, son impact sur nos mentalités et nos modes de vie… Pendant la visite\, les plus anciens retrouveront des images de leur enfance\, tandis que les plus jeunes découvriront un autre temps\, celui de leurs parents et grands-parents. \nLe musée de Viarmes est entièrement gratuit. \n  \nUne exposition exceptionnelle sur la dentelle de Chantilly\nÀ l’occasion de cette ouverture exceptionnelle\, une présentation de la nouvelle exposition temporaire consacrée à la dentelle de Chantilly sera proposée ! Cette exposition sera en place du 18 mai au 15 juillet 2024\, et présentera des pièces authentiques prêtées par le Musée de la Dentelle de Chantilly. \n  \nInfos pratiques :\n-place Pierre Salvi 95270 Viarmes\n-horaires d’ouverture le samedi 18 mai 2024 : 9h30-12h puis 14h30-17h30 puis 18h-23h.
URL:https://viarmes.fr/event/nuit-des-musees-2024/
CATEGORIES:Évènement partenaire / territoire
ATTACH;FMTTYPE=image/jpeg:https://viarmes.fr/wp-content/uploads/2024/05/nuit-des-musees-2024-bandeau.jpg
END:VEVENT
BEGIN:VEVENT
DTSTART;TZID=Europe/Paris:20240525T110000
DTEND;TZID=Europe/Paris:20240525T170000
DTSTAMP:20260425T050804
CREATED:20230516T170525Z
LAST-MODIFIED:20240502T154949Z
UID:25571-1716634800-1716656400@viarmes.fr
SUMMARY:Journée de l'environnement
DESCRIPTION:La communauté de communes Carnelle Pays-de-France renouvelle la journée communautaire de l’environnement\,  le samedi 25 mai 2024 de 11h à 17h au Parc de la Marlière à Belloy-en-France. \nAprès Viarmes\, Luzarches et Baillet-en-France\, cette quatrième édition de la journée communautaire de l’environnement aura lieu à Belloy-en-France\, au cœur du magnifique Parc de la Marlière. \nCette journée de célébration et de sensibilisation sur les enjeux environnementaux\, plus particulièrement sur la protection de l’eau\, ressource essentielle\, s’adresse à toute la famille. Découvrez les nombreux ateliers et animations qui rythmeront cette journée. \nDécouvrez le programme sur le site de la communauté de communes : \nEN SAVOIR PLUS \n  \n 
URL:https://viarmes.fr/event/journee-communautaire-de-lenvironnement/
CATEGORIES:Évènement partenaire / territoire
ATTACH;FMTTYPE=image/jpeg:https://viarmes.fr/wp-content/uploads/2024/04/2024-05-25-Journee-de-lenvironnement-2024-Bandeau-scaled.jpg
END:VEVENT
BEGIN:VEVENT
DTSTART;TZID=Europe/Paris:20240525T203000
DTEND;TZID=Europe/Paris:20240525T233000
DTSTAMP:20260425T050804
CREATED:20230502T091102Z
LAST-MODIFIED:20240430T140206Z
UID:25210-1716669000-1716679800@viarmes.fr
SUMMARY:Concert À Tout Bout D'Chant
DESCRIPTION:L’association À tout bout d’chant propose\, le samedi 25 mai 2024 à 20h30 à la salle Saint-Louis de Viarmes\, un concert spécial « les voix du ciel ». \nCette année\, l’école de chant À tout bout d’chant a décidé de rendre hommage aux chanteurs disparus\, en revisitant les chansons de Michel Berger\, Piaf\, en passant par Maurane ou encore Freddy Mercury et Tina Turner… Un beau spectacle en perspective\, avec près de 50 chanteurs en solos ou en duos qui vont se succéder sur la scène de la salle Saint-Louis pour chanter les « les voix du ciel ». \nRendez-vous le samedi 25 Mai 2024 à la salle Saint-Louis à 20H30. \nEntrée : 10€\nRéservation  : 06.27.14.23.82 \n \n  \n  \n  \n  \n  \n 
URL:https://viarmes.fr/event/concert-a-tout-bout-dchant-2024/
CATEGORIES:Évènement partenaire / territoire
ATTACH;FMTTYPE=image/jpeg:https://viarmes.fr/wp-content/uploads/2024/04/concert-a-tout-bout-chant-mai-2024-bandeau.jpg
END:VEVENT
END:VCALENDAR