BEGIN:VCALENDAR
VERSION:2.0
PRODID:-//Viarmes - ECPv6.15.20//NONSGML v1.0//EN
CALSCALE:GREGORIAN
METHOD:PUBLISH
X-WR-CALNAME:Viarmes
X-ORIGINAL-URL:https://viarmes.fr
X-WR-CALDESC:Évènements pour Viarmes
REFRESH-INTERVAL;VALUE=DURATION:PT1H
X-Robots-Tag:noindex
X-PUBLISHED-TTL:PT1H
BEGIN:VTIMEZONE
TZID:Europe/Paris
BEGIN:DAYLIGHT
TZOFFSETFROM:+0100
TZOFFSETTO:+0200
TZNAME:CEST
DTSTART:20230326T010000
END:DAYLIGHT
BEGIN:STANDARD
TZOFFSETFROM:+0200
TZOFFSETTO:+0100
TZNAME:CET
DTSTART:20231029T010000
END:STANDARD
BEGIN:DAYLIGHT
TZOFFSETFROM:+0100
TZOFFSETTO:+0200
TZNAME:CEST
DTSTART:20240331T010000
END:DAYLIGHT
BEGIN:STANDARD
TZOFFSETFROM:+0200
TZOFFSETTO:+0100
TZNAME:CET
DTSTART:20241027T010000
END:STANDARD
BEGIN:DAYLIGHT
TZOFFSETFROM:+0100
TZOFFSETTO:+0200
TZNAME:CEST
DTSTART:20250330T010000
END:DAYLIGHT
BEGIN:STANDARD
TZOFFSETFROM:+0200
TZOFFSETTO:+0100
TZNAME:CET
DTSTART:20251026T010000
END:STANDARD
END:VTIMEZONE
BEGIN:VEVENT
DTSTART;TZID=Europe/Paris:20240601T090000
DTEND;TZID=Europe/Paris:20240601T170000
DTSTAMP:20260425T030935
CREATED:20240506T091221Z
LAST-MODIFIED:20240517T093515Z
UID:30795-1717232400-1717261200@viarmes.fr
SUMMARY:Fête de l'eau
DESCRIPTION:Le samedi 1er juin 2024\, Viarmes fêtera son patrimoine hydraulique dès 9h avec une conférence à la salle Saint-Louis. Commenceront ensuite des animations sportives à 9h30. \nPuis\, de 10h à 17h en continu\, au Théâtre de verdure\, un grand nombre de jeux et animations familiales gratuites seront proposées : musique\, spectacle\, course familiale\, initiation aux bateaux télécommandés\, jeux enfants\, jeux en bois\, information ludique et sensibilisation ! \n			\n			\n				\n				\n				\n				\n				\n				\n				\n				\n				\n				\n			\n			\n				\n				\n				\n				\n				\n				\n				\n				\n				\n				\n			\n			\n				\n				\n				\n				\n			\n				\n				\n				\n				\n				\n				\n				téléchargez le PROGRAMME (PDF)
URL:https://viarmes.fr/event/fete-de-leau-2024/
ATTACH;FMTTYPE=image/jpeg:https://viarmes.fr/wp-content/uploads/2024/05/Fdl-2024-bandeau.jpg
END:VEVENT
BEGIN:VEVENT
DTSTART;TZID=Europe/Paris:20240608T153000
DTEND;TZID=Europe/Paris:20240608T210000
DTSTAMP:20260425T030935
CREATED:20221107T134828Z
LAST-MODIFIED:20240607T074909Z
UID:21662-1717860600-1717880400@viarmes.fr
SUMMARY:Festival "Musique et Nature"
DESCRIPTION:L’école municipale de musique Camille Saint-Saëns de Viarmes propose\, le samedi 8 juin 2024\, le festival « Musique & Nature » qui se déroulera dans le parc du Hêtre pourpre et à la salle Saint-Louis. \nAu programme : \n11h : Inauguration de l’ouverture au public du parc du Hêtre pourpre\, en présence des élus municipaux. \n15h30 : balade contée sur le parcours Olivier Messiaen dans le parc du Hêtre pourpre. Une mise en lumière de trois espèces présentes dans le parc sera proposée sous la forme d’une déambulation guidée\, en musique\, avec productions graphiques et lecture de textes par les élèves de l’école primaire Louis Pergaud. La Ligue de la Protection des Oiseaux (LPO) sera présente pour l’occasion\, en animant un stand de prévention de la faune ornithologique et de vente. \n17h : conte musical Grain d’Aile à la salle Saint-Louis. Grain d’Aile est si légère qu’il lui est très facile de sauter dans les arbres pour rejoindre ses amis les oiseaux. Mais ce qu’elle désire par-dessus tout\, c’est voler avec eux. Un jour\, l’écureuil lui propose de remplacer ses bras par des ailes. Cela fera-t-il son bonheur ? \n18h : Moment convivial avec restauration sur place et animation musicale dans le parc. En attendant le concert dansant\, le public pourra profiter de la fraîcheur du parc sur des airs de Bossa Nova et de chanson française. \n19h : Concert\, soirée dansante dans le parc du Hêtre pourpre. Musiques actuelles et reprise des grands classiques du Disco par tous les élèves de l’école de musique : une soirée idéale pour danser ! \nL’association Les ailes de Paulo proposera\, à cette occasion\, un stand d’information sur les dons de vie. Venez passer une journée culturelle et musicale dans la nature avec l’équipe de l’école de musique Camille Saint-Saëns de Viarmes ! \nEntrée libre ! \n  \n     \n  \n  \n 
URL:https://viarmes.fr/event/festival-musique-nature-2024/
CATEGORIES:Évènement municipal
ATTACH;FMTTYPE=image/jpeg:https://viarmes.fr/wp-content/uploads/2024/05/Bandeau-bornes-Festival-8-juin.jpg
END:VEVENT
BEGIN:VEVENT
DTSTART;TZID=Europe/Paris:20240615T110000
DTEND;TZID=Europe/Paris:20240615T180000
DTSTAMP:20260425T030935
CREATED:20240603T134106Z
LAST-MODIFIED:20240603T135124Z
UID:31149-1718449200-1718474400@viarmes.fr
SUMMARY:Journée du Bien-Être
DESCRIPTION:Le Tiers-lieu de Viarmes\, Les PaSSages\, situé au 8 rue Eugène Lair\, organise une journée « Bien-être » le samedi 15 juin 2024 de 11h à 18h. \nNutrition\, coaching\, hygiène de la maison\, la réflexologie\, hypnothérapie\, aromathérapie\, sophrologie… De nombreux exposants et praticiens seront présents. \n  \nDécouvrez le programme : \n \n  \n  \n  \n 
URL:https://viarmes.fr/event/journee-du-bien-etre/
CATEGORIES:Évènement partenaire / territoire
ATTACH;FMTTYPE=image/jpeg:https://viarmes.fr/wp-content/uploads/2024/06/Journee-du-bien-etre.jpg
END:VEVENT
END:VCALENDAR