BEGIN:VCALENDAR
VERSION:2.0
PRODID:-//Viarmes - ECPv6.15.20//NONSGML v1.0//EN
CALSCALE:GREGORIAN
METHOD:PUBLISH
X-WR-CALNAME:Viarmes
X-ORIGINAL-URL:https://viarmes.fr
X-WR-CALDESC:Évènements pour Viarmes
REFRESH-INTERVAL;VALUE=DURATION:PT1H
X-Robots-Tag:noindex
X-PUBLISHED-TTL:PT1H
BEGIN:VTIMEZONE
TZID:Europe/Paris
BEGIN:DAYLIGHT
TZOFFSETFROM:+0100
TZOFFSETTO:+0200
TZNAME:CEST
DTSTART:20230326T010000
END:DAYLIGHT
BEGIN:STANDARD
TZOFFSETFROM:+0200
TZOFFSETTO:+0100
TZNAME:CET
DTSTART:20231029T010000
END:STANDARD
BEGIN:DAYLIGHT
TZOFFSETFROM:+0100
TZOFFSETTO:+0200
TZNAME:CEST
DTSTART:20240331T010000
END:DAYLIGHT
BEGIN:STANDARD
TZOFFSETFROM:+0200
TZOFFSETTO:+0100
TZNAME:CET
DTSTART:20241027T010000
END:STANDARD
BEGIN:DAYLIGHT
TZOFFSETFROM:+0100
TZOFFSETTO:+0200
TZNAME:CEST
DTSTART:20250330T010000
END:DAYLIGHT
BEGIN:STANDARD
TZOFFSETFROM:+0200
TZOFFSETTO:+0100
TZNAME:CET
DTSTART:20251026T010000
END:STANDARD
END:VTIMEZONE
BEGIN:VEVENT
DTSTART;VALUE=DATE:20240705
DTEND;VALUE=DATE:20240709
DTSTAMP:20260425T010404
CREATED:20230616T132028Z
LAST-MODIFIED:20240701T065446Z
UID:26133-1720137600-1720483199@viarmes.fr
SUMMARY:Fête foraine
DESCRIPTION:Le Comité des fêtes organise\, du 5 au 8 juillet 2024 dans le centre-ville de Viarmes\, une fête foraine à l’occasion de la traditionnelle fête communale. \nHoraires :\n-vendredi : 14h-minuit\n-samedi : 14h-minuit\n-dimanche : 10h-minuit\n-lundi : 14h-minuit \n+ présence de 5 mascottes surprises\, très connues des enfants\, le dimanche 7 juillet 2024 de 15h à 18h ! \n 
URL:https://viarmes.fr/event/fete-foraine-2024/
CATEGORIES:Évènement municipal
ATTACH;FMTTYPE=image/png:https://viarmes.fr/wp-content/uploads/2023/06/Fete-foraine-bandeau.png
END:VEVENT
BEGIN:VEVENT
DTSTART;TZID=Europe/Paris:20240706T090000
DTEND;TZID=Europe/Paris:20240706T180000
DTSTAMP:20260425T010404
CREATED:20240604T120703Z
LAST-MODIFIED:20240621T100342Z
UID:31206-1720256400-1720288800@viarmes.fr
SUMMARY:Viarmes entre en jeux
DESCRIPTION:Dans quelques semaines\, le pays accueillera le plus grand évènement sportif mondial : les Jeux olympiques sont programmés du 26 juillet au 11 août et les jeux paralympiques se tiendront du 28 août au 8 septembre 2024. \nLa ville de Viarmes\, labellisée Terre de jeux\, participe à cette fête\, en partenariat avec les associations sportives du territoire. Le samedi 6 juillet 2024\, de 9h à 18h au Théâtre de verdure\, Viarmes entrera en jeux. Au programme : basket\, cyclisme\, course d’orientation\, escalade\, football\, kuduro fit\, para-badminton\, pétanque\, randonnée\, roller\, tennis\, tennis de table\, tir à l’arc\, et volley seront proposés au public sous forme d’ateliers gratuits\, d’initiations et de démonstrations. \nUne structure d’escalade de 8 mètres de haut permettra de faire découvrir cette nouvelle discipline olympique : les viarmois ont rendez-vous pour une journée 100% sport ! \n  \nProgramme et plan du site\nCliquez sur l’image suivante pour découvrir le programme complet ! \n \n  \n 
URL:https://viarmes.fr/event/viarmes-entre-en-jeux/
CATEGORIES:Évènement municipal
ATTACH;FMTTYPE=image/png:https://viarmes.fr/wp-content/uploads/2024/06/Viarmes-entre-en-jeux-bandeau-.png
END:VEVENT
END:VCALENDAR